BEGIN:VCALENDAR
VERSION:2.0
PRODID:-//Ecole du Sart Tilman - ECPv6.15.17//NONSGML v1.0//EN
CALSCALE:GREGORIAN
METHOD:PUBLISH
X-WR-CALNAME:Ecole du Sart Tilman
X-ORIGINAL-URL:https://ecoledusarttilman.be
X-WR-CALDESC:Events for Ecole du Sart Tilman
REFRESH-INTERVAL;VALUE=DURATION:PT1H
X-Robots-Tag:noindex
X-PUBLISHED-TTL:PT1H
BEGIN:VTIMEZONE
TZID:Europe/Paris
BEGIN:DAYLIGHT
TZOFFSETFROM:+0100
TZOFFSETTO:+0200
TZNAME:CEST
DTSTART:20230326T010000
END:DAYLIGHT
BEGIN:STANDARD
TZOFFSETFROM:+0200
TZOFFSETTO:+0100
TZNAME:CET
DTSTART:20231029T010000
END:STANDARD
BEGIN:DAYLIGHT
TZOFFSETFROM:+0100
TZOFFSETTO:+0200
TZNAME:CEST
DTSTART:20240331T010000
END:DAYLIGHT
BEGIN:STANDARD
TZOFFSETFROM:+0200
TZOFFSETTO:+0100
TZNAME:CET
DTSTART:20241027T010000
END:STANDARD
BEGIN:DAYLIGHT
TZOFFSETFROM:+0100
TZOFFSETTO:+0200
TZNAME:CEST
DTSTART:20250330T010000
END:DAYLIGHT
BEGIN:STANDARD
TZOFFSETFROM:+0200
TZOFFSETTO:+0100
TZNAME:CET
DTSTART:20251026T010000
END:STANDARD
BEGIN:DAYLIGHT
TZOFFSETFROM:+0100
TZOFFSETTO:+0200
TZNAME:CEST
DTSTART:20260329T010000
END:DAYLIGHT
BEGIN:STANDARD
TZOFFSETFROM:+0200
TZOFFSETTO:+0100
TZNAME:CET
DTSTART:20261025T010000
END:STANDARD
BEGIN:DAYLIGHT
TZOFFSETFROM:+0100
TZOFFSETTO:+0200
TZNAME:CEST
DTSTART:20270328T010000
END:DAYLIGHT
BEGIN:STANDARD
TZOFFSETFROM:+0200
TZOFFSETTO:+0100
TZNAME:CET
DTSTART:20271031T010000
END:STANDARD
END:VTIMEZONE
BEGIN:VEVENT
DTSTART;VALUE=DATE:20260303
DTEND;VALUE=DATE:20260304
DTSTAMP:20260420T191451
CREATED:20250929T065152Z
LAST-MODIFIED:20250929T065152Z
UID:3187-1772496000-1772582399@ecoledusarttilman.be
SUMMARY:journée pédagogique
DESCRIPTION:
URL:https://ecoledusarttilman.be/event/journee-pedagogique-2/
CATEGORIES:Journées pédagogiques
END:VEVENT
BEGIN:VEVENT
DTSTART;TZID=Europe/Paris:20260207T140000
DTEND;TZID=Europe/Paris:20260207T180000
DTSTAMP:20260420T191451
CREATED:20241217T090933Z
LAST-MODIFIED:20250825T074603Z
UID:3062-1770472800-1770487200@ecoledusarttilman.be
SUMMARY:Carnaval à l'école
DESCRIPTION:
URL:https://ecoledusarttilman.be/event/carnaval-a-lecole/
CATEGORIES:Festivités
END:VEVENT
BEGIN:VEVENT
DTSTART;VALUE=DATE:20260127
DTEND;VALUE=DATE:20260128
DTSTAMP:20260420T191451
CREATED:20250929T065103Z
LAST-MODIFIED:20250929T065103Z
UID:3185-1769472000-1769558399@ecoledusarttilman.be
SUMMARY:Journée pédagogique
DESCRIPTION:
URL:https://ecoledusarttilman.be/event/journee-pedagogique/
END:VEVENT
BEGIN:VEVENT
DTSTART;TZID=Europe/Paris:20251212T160000
DTEND;TZID=Europe/Paris:20251212T190000
DTSTAMP:20260420T191451
CREATED:20240826T184139Z
LAST-MODIFIED:20250825T075004Z
UID:2709-1765555200-1765566000@ecoledusarttilman.be
SUMMARY:Marché de Noël
DESCRIPTION:
URL:https://ecoledusarttilman.be/event/marche-de-noel/
CATEGORIES:Festivités
END:VEVENT
BEGIN:VEVENT
DTSTART;VALUE=DATE:20251015
DTEND;VALUE=DATE:20251018
DTSTAMP:20260420T191451
CREATED:20250825T075301Z
LAST-MODIFIED:20250825T075343Z
UID:3137-1760486400-1760745599@ecoledusarttilman.be
SUMMARY:P1 Classe de dépaysement Flipper
DESCRIPTION:
URL:https://ecoledusarttilman.be/event/p1-classe-de-depaysement-flipper/
END:VEVENT
BEGIN:VEVENT
DTSTART;VALUE=DATE:20251003
DTEND;VALUE=DATE:20251004
DTSTAMP:20260420T191451
CREATED:20241217T091020Z
LAST-MODIFIED:20250825T074508Z
UID:3064-1759449600-1759535999@ecoledusarttilman.be
SUMMARY:Journée pédagogique
DESCRIPTION:
URL:https://ecoledusarttilman.be/event/journees-pedagogiques/
CATEGORIES:Journées pédagogiques
END:VEVENT
BEGIN:VEVENT
DTSTART;VALUE=DATE:20250922
DTEND;VALUE=DATE:20250925
DTSTAMP:20260420T191451
CREATED:20240826T183952Z
LAST-MODIFIED:20250825T075046Z
UID:2707-1758499200-1758758399@ecoledusarttilman.be
SUMMARY:P4 à Blegny
DESCRIPTION:Séjour à Blegny pour les 4e primaire
URL:https://ecoledusarttilman.be/event/p4-a-blegny/
CATEGORIES:Séjours scolaires
END:VEVENT
BEGIN:VEVENT
DTSTART;TZID=Europe/Paris:20250918T160000
DTEND;TZID=Europe/Paris:20250918T180000
DTSTAMP:20260420T191451
CREATED:20240901T190039Z
LAST-MODIFIED:20250825T075152Z
UID:2703-1758211200-1758218400@ecoledusarttilman.be
SUMMARY:Réunion de rentrée
DESCRIPTION:Première réunion des parents dans la classe de son enseignant. \nPrésentation\, explication du déroulement et de l’organisation de l’année. \nVerre de bienvenue.
URL:https://ecoledusarttilman.be/event/reunion-de-rentree/
CATEGORIES:Festivités
END:VEVENT
BEGIN:VEVENT
DTSTART;VALUE=DATE:20250327
DTEND;VALUE=DATE:20250405
DTSTAMP:20260420T191451
CREATED:20240827T091306Z
LAST-MODIFIED:20240827T091332Z
UID:2740-1743033600-1743811199@ecoledusarttilman.be
SUMMARY:P6 au Ski
DESCRIPTION:
URL:https://ecoledusarttilman.be/event/p6-au-ski/
CATEGORIES:Séjours scolaires
END:VEVENT
BEGIN:VEVENT
DTSTART;TZID=Europe/Paris:20250320T160000
DTEND;TZID=Europe/Paris:20250320T180000
DTSTAMP:20260420T191451
CREATED:20250318T081608Z
LAST-MODIFIED:20250318T081608Z
UID:3095-1742486400-1742493600@ecoledusarttilman.be
SUMMARY:Marché de printemps
DESCRIPTION:Les classes maternelles vous invitent à leur Marché de printemps le jeudi 20 mars dès 16h
URL:https://ecoledusarttilman.be/event/marche-de-printemps/
END:VEVENT
BEGIN:VEVENT
DTSTART;TZID=Europe/Paris:20241115T183000
DTEND;TZID=Europe/Paris:20241116T010000
DTSTAMP:20260420T191451
CREATED:20241014T085208Z
LAST-MODIFIED:20241014T085615Z
UID:3020-1731695400-1731718800@ecoledusarttilman.be
SUMMARY:Blind Test
DESCRIPTION:  \nblind test_2024 \nChers parents\, Chers sympathisants de l’école\,\n\nL’AP est heureuse de vous convier à une soirée “Adults only” autour d’un blind test le 15/11/2024.\nToutes les infos en pièce jointe de ce mail.\n\nNous vous attendons d’ores et déjà  très nombreux.\n\nBonne journée\n\n—\nL’association de Parents
URL:https://ecoledusarttilman.be/event/blind-test/
ATTACH;FMTTYPE=image/png:https://ecoledusarttilman.be/wp-content/uploads/2024/10/Screenshot-2024-10-14-at-10-54-03-blind-test_2024-blind-test_2024.pdf.png
END:VEVENT
BEGIN:VEVENT
DTSTART;TZID=Europe/Paris:20241105T173000
DTEND;TZID=Europe/Paris:20241105T183000
DTSTAMP:20260420T191451
CREATED:20241014T091247Z
LAST-MODIFIED:20241014T091247Z
UID:3030-1730827800-1730831400@ecoledusarttilman.be
SUMMARY:présentation du projet de construction
DESCRIPTION:Comme vous le savez\, la Ville de Liège a initié un important projet afin d’améliorer les infrastructures de notre école via la construction d’un nouveau bâtiment.\nCe projet sera présenté le mardi 5 novembre à 17h30 dans la salle de gymnastique.\nVous y êtes cordialement invités.
URL:https://ecoledusarttilman.be/event/presentation-du-projet-de-construction/
END:VEVENT
BEGIN:VEVENT
DTSTART;VALUE=DATE:20241009
DTEND;VALUE=DATE:20241012
DTSTAMP:20260420T191451
CREATED:20240827T091142Z
LAST-MODIFIED:20240827T091142Z
UID:2738-1728432000-1728691199@ecoledusarttilman.be
SUMMARY:P1 à Wanne
DESCRIPTION:
URL:https://ecoledusarttilman.be/event/p1-a-wanne/
CATEGORIES:Séjours scolaires
END:VEVENT
END:VCALENDAR