BEGIN:VCALENDAR
VERSION:2.0
PRODID:-//Ecole du Sart Tilman - ECPv6.15.17//NONSGML v1.0//EN
CALSCALE:GREGORIAN
METHOD:PUBLISH
X-WR-CALNAME:Ecole du Sart Tilman
X-ORIGINAL-URL:https://ecoledusarttilman.be
X-WR-CALDESC:Events for Ecole du Sart Tilman
REFRESH-INTERVAL;VALUE=DURATION:PT1H
X-Robots-Tag:noindex
X-PUBLISHED-TTL:PT1H
BEGIN:VTIMEZONE
TZID:Europe/Paris
BEGIN:DAYLIGHT
TZOFFSETFROM:+0100
TZOFFSETTO:+0200
TZNAME:CEST
DTSTART:20250330T010000
END:DAYLIGHT
BEGIN:STANDARD
TZOFFSETFROM:+0200
TZOFFSETTO:+0100
TZNAME:CET
DTSTART:20251026T010000
END:STANDARD
BEGIN:DAYLIGHT
TZOFFSETFROM:+0100
TZOFFSETTO:+0200
TZNAME:CEST
DTSTART:20260329T010000
END:DAYLIGHT
BEGIN:STANDARD
TZOFFSETFROM:+0200
TZOFFSETTO:+0100
TZNAME:CET
DTSTART:20261025T010000
END:STANDARD
BEGIN:DAYLIGHT
TZOFFSETFROM:+0100
TZOFFSETTO:+0200
TZNAME:CEST
DTSTART:20270328T010000
END:DAYLIGHT
BEGIN:STANDARD
TZOFFSETFROM:+0200
TZOFFSETTO:+0100
TZNAME:CET
DTSTART:20271031T010000
END:STANDARD
END:VTIMEZONE
BEGIN:VEVENT
DTSTART;VALUE=DATE:20260420
DTEND;VALUE=DATE:20260421
DTSTAMP:20260420T164247
CREATED:20250929T065238Z
LAST-MODIFIED:20250929T065238Z
UID:3189-1776643200-1776729599@ecoledusarttilman.be
SUMMARY:Journée pédagogique
DESCRIPTION:
URL:https://ecoledusarttilman.be/event/journee-pedagogique-3/
CATEGORIES:Journées pédagogiques
END:VEVENT
BEGIN:VEVENT
DTSTART;VALUE=DATE:20260515
DTEND;VALUE=DATE:20260516
DTSTAMP:20260420T164247
CREATED:20240826T184458Z
LAST-MODIFIED:20250825T074652Z
UID:2715-1778803200-1778889599@ecoledusarttilman.be
SUMMARY:Marche Parrainée
DESCRIPTION:
URL:https://ecoledusarttilman.be/event/marche-parrainee/
CATEGORIES:Festivités
END:VEVENT
BEGIN:VEVENT
DTSTART;TZID=Europe/Paris:20260606T140000
DTEND;TZID=Europe/Paris:20260606T190000
DTSTAMP:20260420T164247
CREATED:20240826T184600Z
LAST-MODIFIED:20250825T074859Z
UID:2717-1780754400-1780772400@ecoledusarttilman.be
SUMMARY:Fancy Fair
DESCRIPTION:
URL:https://ecoledusarttilman.be/event/fancy-fair/
CATEGORIES:Festivités
END:VEVENT
BEGIN:VEVENT
DTSTART;TZID=Europe/Paris:20260702T180000
DTEND;TZID=Europe/Paris:20260702T200000
DTSTAMP:20260420T164247
CREATED:20240826T184709Z
LAST-MODIFIED:20250825T074723Z
UID:2719-1783015200-1783022400@ecoledusarttilman.be
SUMMARY:Remise des CEB et spectacle des 6e
DESCRIPTION:
URL:https://ecoledusarttilman.be/event/remise-des-ceb-et-spectacle-des-6e/
CATEGORIES:Festivités
END:VEVENT
END:VCALENDAR